BEGIN:VCALENDAR
VERSION:2.0
PRODID:-//TUM Executive &amp; Professional Education - ECPv5.3.2.1//NONSGML v1.0//EN
CALSCALE:GREGORIAN
METHOD:PUBLISH
X-WR-CALNAME:TUM Executive &amp; Professional Education
X-ORIGINAL-URL:http://ex.lll.tum.de.devweb.mwn.de
X-WR-CALDESC:Events for TUM Executive &amp; Professional Education
BEGIN:VTIMEZONE
TZID:Europe/Helsinki
BEGIN:DAYLIGHT
TZOFFSETFROM:+0200
TZOFFSETTO:+0300
TZNAME:EEST
DTSTART:20180325T010000
END:DAYLIGHT
BEGIN:STANDARD
TZOFFSETFROM:+0300
TZOFFSETTO:+0200
TZNAME:EET
DTSTART:20181028T010000
END:STANDARD
END:VTIMEZONE
BEGIN:VEVENT
DTSTART;TZID=Europe/Helsinki:20180120T140000
DTEND;TZID=Europe/Helsinki:20180120T180000
DTSTAMP:20260421T130609
CREATED:20180109T230000Z
LAST-MODIFIED:20180605T144213Z
UID:23544-1516456800-1516471200@ex.lll.tum.de.devweb.mwn.de
SUMMARY:Executive MBA in Innovation and Business Creation Day
DESCRIPTION:Do you want to know what it feels like to be a student of the Executive MBA in Innovation & Business Creation? Then join us for our info event “EMBA Day” on February 12\, 2018 at UnternehmerTUM’s offices on the 25th floor of the Highlight Towers. \nOn this Saturday afternoon you will have the chance to be part of a taster lecture\, meet the program team\, and get to know program alumni as well as prospective classmates. \n   \nAs the end of the application period is coming closer\, please feel free to bring your application documents with you. We’ll be happy to give you some quick feedback. Alternatively\, you might even want to hand in your application file during the event. For more information on the required documents\, please see the application section. \nRegister Now \nFind out more about the Executive MBA in Innovation & Business Creation
URL:http://ex.lll.tum.de.devweb.mwn.de/event/executive-mba-in-innovation-and-business-creation-day/
LOCATION:Entrepreneurship Center am Garching Forschungszentrum\, Lichtenbergstraße 6\, Garching\, 85748\, Deutschland
CATEGORIES:Executive MBA in Innovation & Business Creation
GEO:48.2675869;11.6648487
X-APPLE-STRUCTURED-LOCATION;VALUE=URI;X-ADDRESS=Entrepreneurship Center am Garching Forschungszentrum Lichtenbergstraße 6 Garching 85748 Deutschland;X-APPLE-RADIUS=500;X-TITLE=Lichtenbergstraße 6:geo:11.6648487,48.2675869
END:VEVENT
END:VCALENDAR