BEGIN:VCALENDAR
VERSION:2.0
PRODID:-//TUM Executive &amp; Professional Education - ECPv5.3.2.1//NONSGML v1.0//EN
CALSCALE:GREGORIAN
METHOD:PUBLISH
X-WR-CALNAME:TUM Executive &amp; Professional Education
X-ORIGINAL-URL:http://ex.lll.tum.de.devweb.mwn.de
X-WR-CALDESC:Events for TUM Executive &amp; Professional Education
BEGIN:VTIMEZONE
TZID:Europe/Helsinki
BEGIN:DAYLIGHT
TZOFFSETFROM:+0200
TZOFFSETTO:+0300
TZNAME:EEST
DTSTART:20160327T010000
END:DAYLIGHT
BEGIN:STANDARD
TZOFFSETFROM:+0300
TZOFFSETTO:+0200
TZNAME:EET
DTSTART:20161030T010000
END:STANDARD
END:VTIMEZONE
BEGIN:VEVENT
DTSTART;VALUE=DATE:20160113
DTEND;VALUE=DATE:20160120
DTSTAMP:20260419T161526
CREATED:20150611T220000Z
LAST-MODIFIED:20180605T143655Z
UID:23360-1452643200-1453247999@ex.lll.tum.de.devweb.mwn.de
SUMMARY:Executive MBA Class of '17 - 6th Presence Block
DESCRIPTION:More Information on Executive MBA
URL:http://ex.lll.tum.de.devweb.mwn.de/event/executive-mba-class-of-17-6th-presence-block/
LOCATION:Munich\, Arcisstraße
END:VEVENT
END:VCALENDAR