BEGIN:VCALENDAR
VERSION:2.0
PRODID:-//TUM Executive &amp; Professional Education - ECPv5.3.2.1//NONSGML v1.0//EN
CALSCALE:GREGORIAN
METHOD:PUBLISH
X-WR-CALNAME:TUM Executive &amp; Professional Education
X-ORIGINAL-URL:http://ex.lll.tum.de.devweb.mwn.de/de/
X-WR-CALDESC:Veranstaltungen für TUM Executive &amp; Professional Education
BEGIN:VTIMEZONE
TZID:Europe/Helsinki
BEGIN:DAYLIGHT
TZOFFSETFROM:+0200
TZOFFSETTO:+0300
TZNAME:EEST
DTSTART:20170326T010000
END:DAYLIGHT
BEGIN:STANDARD
TZOFFSETFROM:+0300
TZOFFSETTO:+0200
TZNAME:EET
DTSTART:20171029T010000
END:STANDARD
END:VTIMEZONE
BEGIN:VEVENT
DTSTART;TZID=Europe/Helsinki:20170830T183000
DTEND;TZID=Europe/Helsinki:20170830T200000
DTSTAMP:20260421T140044
CREATED:20170719T220000Z
LAST-MODIFIED:20180605T144147Z
UID:23530-1504117800-1504123200@ex.lll.tum.de.devweb.mwn.de
SUMMARY:Executive MBA Webinar – August
DESCRIPTION:Agenda: \n\nIntroduction to the Executive MBA\nOrganizational matters and time for your questions\n\nDate: Wednesday\, 30 August\, 2017 \nTime: 6:30 – 8:00 pm CET \nFor individual preparation\, please send your CV to info.epe@lll.tum.de. \nRegistration \n[contact-form-7 id=”11640″ title=”EMBA Webinar August – DE & EN”]\nRegister here \nMore about the Executive MBA
URL:http://ex.lll.tum.de.devweb.mwn.de/de/event/executive-mba-webinar-august/
END:VEVENT
BEGIN:VEVENT
DTSTART;TZID=Europe/Helsinki:20170830T183000
DTEND;TZID=Europe/Helsinki:20170830T200000
DTSTAMP:20260421T140044
CREATED:20170719T220000Z
LAST-MODIFIED:20180605T143447Z
UID:23749-1504117800-1504123200@ex.lll.tum.de.devweb.mwn.de
SUMMARY:Executive MBA Webinar - August
DESCRIPTION:Agenda: \n \n\nVorstellung des Executive MBA der TUM School of Management\nZeit für Ihre weiteren Fragen\n\nDatum: Mittwoch\, 30. August\, 2017 \nUhrzeit: 18:30 – 20:00 Uhr \nSenden Sie zur individuellen Vorbereitung Ihre Fragen sowie Ihren Lebenslauf an: info.epe@lll.tum.de. \nAnmeldung \nAnmeldung [contact-form-7 id=”11640″ title=”EMBA Webinar August – DE & EN”]\nHier Anmelden\nMehr zum Executive MBA
URL:http://ex.lll.tum.de.devweb.mwn.de/de/event/executive-mba-webinar-august/
END:VEVENT
BEGIN:VEVENT
DTSTART;TZID=Europe/Helsinki:20170629T080000
DTEND;TZID=Europe/Helsinki:20170929T170000
DTSTAMP:20260421T140044
CREATED:20170118T230000Z
LAST-MODIFIED:20180605T144046Z
UID:23495-1498723200-1506704400@ex.lll.tum.de.devweb.mwn.de
SUMMARY:Personalmanagementkongress 2017
DESCRIPTION:Meet us at the Personalmanagementkongress in Berlin. \nFor more information & registration\, please visit: \nwww.personalmanagementkongress.de \n 
URL:http://ex.lll.tum.de.devweb.mwn.de/de/event/8211/
LOCATION:bbc Berlin
GEO:52.5207321;13.3819003
END:VEVENT
END:VCALENDAR