BEGIN:VCALENDAR
VERSION:2.0
PRODID:-//TUM Executive &amp; Professional Education - ECPv5.3.2.1//NONSGML v1.0//EN
CALSCALE:GREGORIAN
METHOD:PUBLISH
X-WR-CALNAME:TUM Executive &amp; Professional Education
X-ORIGINAL-URL:http://ex.lll.tum.de.devweb.mwn.de/de/
X-WR-CALDESC:Veranstaltungen für TUM Executive &amp; Professional Education
BEGIN:VTIMEZONE
TZID:Europe/Helsinki
BEGIN:DAYLIGHT
TZOFFSETFROM:+0200
TZOFFSETTO:+0300
TZNAME:EEST
DTSTART:20170326T010000
END:DAYLIGHT
BEGIN:STANDARD
TZOFFSETFROM:+0300
TZOFFSETTO:+0200
TZNAME:EET
DTSTART:20171029T010000
END:STANDARD
END:VTIMEZONE
BEGIN:VEVENT
DTSTART;TZID=Europe/Helsinki:20170729T100000
DTEND;TZID=Europe/Helsinki:20170729T170000
DTSTAMP:20260425T041047
CREATED:20170702T220000Z
LAST-MODIFIED:20180605T144145Z
UID:23529-1501322400-1501347600@ex.lll.tum.de.devweb.mwn.de
SUMMARY:One Day Training Event on 29 July
DESCRIPTION:We would like to invite you to take part in our One Day Training Event in July! This event is offered to all applicants who have passed the formal requirements of our admission process. \nYou will have the chance to network with possible future classmates and to work on effective communication and feedback in English together with our experienced coaching tandem Helga and Paul Smith. \nWhen?          29 July\, 2017\, from 10:00 am to 5:00 pm \nWhere?         TUM School of Management\, Munich \nTo attend this event\, please fill in the following registration form: \n[contact-form-7 id=”7808″ title=”One Day Training Event July 17 – EN”]
URL:http://ex.lll.tum.de.devweb.mwn.de/de/event/one-day-training-event-on-29-july/
END:VEVENT
BEGIN:VEVENT
DTSTART;TZID=Europe/Helsinki:20170629T080000
DTEND;TZID=Europe/Helsinki:20170929T170000
DTSTAMP:20260425T041047
CREATED:20170118T230000Z
LAST-MODIFIED:20180605T144046Z
UID:23495-1498723200-1506704400@ex.lll.tum.de.devweb.mwn.de
SUMMARY:Personalmanagementkongress 2017
DESCRIPTION:Meet us at the Personalmanagementkongress in Berlin. \nFor more information & registration\, please visit: \nwww.personalmanagementkongress.de \n 
URL:http://ex.lll.tum.de.devweb.mwn.de/de/event/8211/
LOCATION:bbc Berlin
GEO:52.5207321;13.3819003
END:VEVENT
END:VCALENDAR